BEGIN:VCALENDAR
VERSION:2.0
PRODID:-//Tukios.com/
BEGIN:VEVENT
UID:e3e22aca-0e21-412e-9d19-cccbfca6a923@www.ingramfuneralhome.com
DTSTAMP:20260422T083703Z
DTSTART:20260207T170000Z
DTEND:20260207T190000Z
SUMMARY:Visitation
DESCRIPTION:
URL:https://www.ingramfuneralhome.com/obituaries/billy-tillery
LOCATION:Ingram Funeral Home Chapel 210 Ingram Avenue  Cumming GA 30040
GEO:34.2091101;-84.1372854
END:VEVENT
END:VCALENDAR