BEGIN:VCALENDAR
VERSION:2.0
PRODID:-//Tukios.com/
BEGIN:VEVENT
UID:9c73e3ae-8f2e-48e1-bd1b-43e0922c6665@www.ingramfuneralhome.com
DTSTAMP:20260422T084710Z
DTSTART:20260213T180000Z
DTEND:20260213T190000Z
SUMMARY:Visitation
DESCRIPTION:
URL:https://www.ingramfuneralhome.com/obituaries/kinnie-dismuke
LOCATION:First Baptist Cumming 1597 Sawnee Drive  Cumming GA 30040
GEO:34.2240273;-84.1477428
END:VEVENT
END:VCALENDAR