BEGIN:VCALENDAR
VERSION:2.0
PRODID:-//Tukios.com/
BEGIN:VEVENT
UID:cd70f693-28e4-4805-8a9d-3b1eacf13500@www.ingramfuneralhome.com
DTSTAMP:20260422T084153Z
DTSTART:20260213T190000Z
DTEND:20260213T200000Z
SUMMARY:Memorial Service
DESCRIPTION:
URL:https://www.ingramfuneralhome.com/obituaries/kinnie-dismuke
LOCATION:First Baptist Cumming 1597 Sawnee Drive  Cumming GA 30040
GEO:34.2240273;-84.1477428
END:VEVENT
END:VCALENDAR