BEGIN:VCALENDAR
VERSION:2.0
PRODID:-//Tukios.com/
BEGIN:VEVENT
UID:53d6915f-43da-4fab-8db3-1b28044811c2@www.ingramfuneralhome.com
DTSTAMP:20260421T211149Z
DTSTART:20260428T180000Z
DTEND:20260428T190000Z
SUMMARY:Funeral Service
DESCRIPTION:
URL:https://www.ingramfuneralhome.com/obituaries/laura-rogers
LOCATION:Ingram Funeral Home Chapel 210 Ingram Avenue  Cumming GA 30040
GEO:34.2090415;-84.1373159
END:VEVENT
END:VCALENDAR