BEGIN:VCALENDAR
VERSION:2.0
PRODID:-//Tukios.com/
BEGIN:VEVENT
UID:4952e60a-26de-45ec-93c1-fe896661f12c@www.ingramfuneralhome.com
DTSTAMP:20260421T182009Z
DTSTART:20260422T210000Z
DTEND:20260423T010000Z
SUMMARY:Visitation
DESCRIPTION:
URL:https://www.ingramfuneralhome.com/obituaries/marvin-ruis
LOCATION:Ingram Funeral Home & Crematory 210 Ingram Avenue  Cumming GA 
	30040
GEO:34.2090415;-84.1373159
END:VEVENT
END:VCALENDAR