BEGIN:VCALENDAR
VERSION:2.0
PRODID:-//Tukios.com/
BEGIN:VEVENT
UID:00f80212-a905-4030-90ff-ab1218f822f1@www.ingramfuneralhome.com
DTSTAMP:20260421T182358Z
DTSTART:20260423T140000Z
DTEND:20260424T010000Z
SUMMARY:Visitation
DESCRIPTION:
URL:https://www.ingramfuneralhome.com/obituaries/marvin-ruis
LOCATION:Ingram Funeral Home & Crematory 210 Ingram Avenue  Cumming GA 
	30040
GEO:34.2090415;-84.1373159
END:VEVENT
END:VCALENDAR