BEGIN:VCALENDAR
VERSION:2.0
PRODID:-//Tukios.com/
BEGIN:VEVENT
UID:fafd8166-a59a-474b-9b9a-56f4fb72969a@www.ingramfuneralhome.com
DTSTAMP:20260421T182542Z
DTSTART:20260424T130000Z
DTEND:20260424T180000Z
SUMMARY:Visitation
DESCRIPTION:
URL:https://www.ingramfuneralhome.com/obituaries/marvin-ruis
LOCATION:Ingram Funeral Home & Crematory 210 Ingram Avenue  Cumming GA 
	30040
GEO:34.2090415;-84.1373159
END:VEVENT
END:VCALENDAR