BEGIN:VCALENDAR
VERSION:2.0
PRODID:-//Tukios.com/
BEGIN:VEVENT
UID:34b0f577-3f7c-4e2c-94f4-689ec7a39116@www.ingramfuneralhome.com
DTSTAMP:20260421T182515Z
DTSTART:20260424T180000Z
DTEND:20260424T190000Z
SUMMARY:Funeral Service
DESCRIPTION:
URL:https://www.ingramfuneralhome.com/obituaries/marvin-ruis
LOCATION:Ingram Funeral Home & Crematory 210 Ingram Avenue  Cumming GA 
	30040
GEO:34.2090415;-84.1373159
END:VEVENT
END:VCALENDAR