BEGIN:VCALENDAR
VERSION:2.0
PRODID:-//Tukios.com/
BEGIN:VEVENT
UID:295c204b-d39c-4845-8daa-81df71b8d2ee@www.ingramfuneralhome.com
DTSTAMP:20260421T182218Z
DTSTART:20260424
SUMMARY:Interment
DESCRIPTION:
URL:https://www.ingramfuneralhome.com/obituaries/marvin-ruis
LOCATION: 1390 Dahlonega Hwy  Cumming GA 30040
GEO:34.2357376;-84.1194344
END:VEVENT
END:VCALENDAR