BEGIN:VCALENDAR
VERSION:2.0
PRODID:-//Tukios.com/
BEGIN:VEVENT
UID:2638003e-a4e1-405d-89e5-6708b1a9aae5@www.ingramfuneralhome.com
DTSTAMP:20260422T230356Z
DTSTART:20260427T150000Z
DTEND:20260427T160000Z
SUMMARY:Graveside Service
DESCRIPTION:
URL:https://www.ingramfuneralhome.com/obituaries/mary-stewart
LOCATION:Arlington Memorial Park 201 Mount Vernon Highway Northeast  
	Sandy Springs GA 30328
GEO:33.9235821;-84.3808052
END:VEVENT
END:VCALENDAR