BEGIN:VCALENDAR
VERSION:2.0
PRODID:-//Tukios.com/
BEGIN:VEVENT
UID:fa619818-82e3-4f1c-a001-5dbbf8bb6e9b@www.ingramfuneralhome.com
DTSTAMP:20260422T230630Z
DTSTART:20260424T210000Z
DTEND:20260424T230000Z
SUMMARY:Visitation
DESCRIPTION:
URL:https://www.ingramfuneralhome.com/obituaries/mary-stewart
LOCATION:Ingram Funeral Home 210 Ingram Avenue  Cumming GA 30040
GEO:34.2090415;-84.1373159
END:VEVENT
END:VCALENDAR