BEGIN:VCALENDAR
VERSION:2.0
PRODID:-//Tukios.com/
BEGIN:VEVENT
UID:15fdb74b-7898-4ccd-9c3e-7d18b3119de6@www.ingramfuneralhome.com
DTSTAMP:20260423T174436Z
DTSTART:20260425T200000Z
DTEND:20260426T000000Z
SUMMARY:Visitation
DESCRIPTION:
URL:https://www.ingramfuneralhome.com/obituaries/tom-maurer
LOCATION:Ingram Funeral Home 210 Ingram Avenue  Cumming GA 30040
GEO:34.2090415;-84.1373159
END:VEVENT
END:VCALENDAR