BEGIN:VCALENDAR
VERSION:2.0
PRODID:-//Tukios.com/
BEGIN:VEVENT
UID:3dd9306a-a17c-4b58-9788-6bbb4c06d1da@www.ingramfuneralhome.com
DTSTAMP:20260423T174837Z
DTSTART:20260426T180000Z
DTEND:20260426T190000Z
SUMMARY:Funeral Service
DESCRIPTION:
URL:https://www.ingramfuneralhome.com/obituaries/tom-maurer
LOCATION:Ingram Funeral Home 210 Ingram Avenue  Cumming GA 30040
GEO:34.2090415;-84.1373159
END:VEVENT
END:VCALENDAR